BEGIN:VCALENDAR
VERSION:2.0
PRODID:-//eventon.com NONSGML v1.0//EN
CALSCALE:GREGORIAN
METHOD:PUBLISH
BEGIN:VEVENT
UID:69e735de8e498
DTSTAMP:20260421T083126Z
DTSTART:20251008T053000Z
DTEND:20251008T080000Z
LOCATION:Stellwerk18 Eduard-Rüber-Straße 7
SUMMARY:7. Unternehmerfrühstück mit Speed-Vortrag am 08. Oktober 2025
DESCRIPTION:Liebe Mitglieder des Gewerbeverbandes Rosenheim\,  liebe Freund
 e und Gäste\,  wir möchten Sie zu unserem 7. Unternehmer-Frühstück mit 
 Speedvortrag des Gewerbeverbandes Rosenheim ganz herzlich einladen. Ziel d
 ieser Veranstaltung ist es\,  dass sich Unternehmer und Selbstständige zum
  Austausch treffen und über Probleme und Herausforderungen im Business dis
 kutieren können und sich Lösungen daraus ergeben.[..]\nhttps://gewerbever
 band-rosenheim.de/events/7-unternehmerfruehstueck-mit-speed-vortrag-am-08-o
 ktober-2025/
URL:https://gewerbeverband-rosenheim.de/events/7-unternehmerfruehstueck-mit-speed-vortrag-am-08-oktober-2025/
END:VEVENT
END:VCALENDAR